BEGIN:VCALENDAR
VERSION:2.0
PRODID:-// - ECPv6.15.20//NONSGML v1.0//EN
CALSCALE:GREGORIAN
METHOD:PUBLISH
X-ORIGINAL-URL:https://llangollen.events
X-WR-CALDESC:Events for 
REFRESH-INTERVAL;VALUE=DURATION:PT1H
X-Robots-Tag:noindex
X-PUBLISHED-TTL:PT1H
BEGIN:VTIMEZONE
TZID:Europe/London
BEGIN:DAYLIGHT
TZOFFSETFROM:+0000
TZOFFSETTO:+0100
TZNAME:BST
DTSTART:20240331T010000
END:DAYLIGHT
BEGIN:STANDARD
TZOFFSETFROM:+0100
TZOFFSETTO:+0000
TZNAME:GMT
DTSTART:20241027T010000
END:STANDARD
BEGIN:DAYLIGHT
TZOFFSETFROM:+0000
TZOFFSETTO:+0100
TZNAME:BST
DTSTART:20250330T010000
END:DAYLIGHT
BEGIN:STANDARD
TZOFFSETFROM:+0100
TZOFFSETTO:+0000
TZNAME:GMT
DTSTART:20251026T010000
END:STANDARD
BEGIN:DAYLIGHT
TZOFFSETFROM:+0000
TZOFFSETTO:+0100
TZNAME:BST
DTSTART:20260329T010000
END:DAYLIGHT
BEGIN:STANDARD
TZOFFSETFROM:+0100
TZOFFSETTO:+0000
TZNAME:GMT
DTSTART:20261025T010000
END:STANDARD
END:VTIMEZONE
BEGIN:VEVENT
DTSTART;TZID=Europe/London:20251031T193000
DTEND;TZID=Europe/London:20251031T230000
DTSTAMP:20260419T152621
CREATED:20251006T185917Z
LAST-MODIFIED:20251012T114825Z
UID:603-1761939000-1761951600@llangollen.events
SUMMARY:Live Music Friday: Rose & Jacob\, with Sasha Duchnowska
DESCRIPTION:Celebrate Halloween night with live music in Gales. Free entry\, music starts at 7:30 pm
URL:https://llangollen.events/event/live-music-friday-rose-jacob-with-sasha-duchnowska/
LOCATION:Gales Wine Bar\, 18 Bridge St\,\, Llangollen\, Denbighshire\, LL20 8PF\, United Kingdom
CATEGORIES:Live Music
ATTACH;FMTTYPE=image/png:https://llangollen.events/wp-content/uploads/2025/10/R-J-blog.png
END:VEVENT
END:VCALENDAR