BEGIN:VCALENDAR
VERSION:2.0
PRODID:-// - ECPv6.15.20//NONSGML v1.0//EN
CALSCALE:GREGORIAN
METHOD:PUBLISH
X-ORIGINAL-URL:https://llangollen.events
X-WR-CALDESC:Events for 
REFRESH-INTERVAL;VALUE=DURATION:PT1H
X-Robots-Tag:noindex
X-PUBLISHED-TTL:PT1H
BEGIN:VTIMEZONE
TZID:Europe/London
BEGIN:DAYLIGHT
TZOFFSETFROM:+0000
TZOFFSETTO:+0100
TZNAME:BST
DTSTART:20240331T010000
END:DAYLIGHT
BEGIN:STANDARD
TZOFFSETFROM:+0100
TZOFFSETTO:+0000
TZNAME:GMT
DTSTART:20241027T010000
END:STANDARD
BEGIN:DAYLIGHT
TZOFFSETFROM:+0000
TZOFFSETTO:+0100
TZNAME:BST
DTSTART:20250330T010000
END:DAYLIGHT
BEGIN:STANDARD
TZOFFSETFROM:+0100
TZOFFSETTO:+0000
TZNAME:GMT
DTSTART:20251026T010000
END:STANDARD
BEGIN:DAYLIGHT
TZOFFSETFROM:+0000
TZOFFSETTO:+0100
TZNAME:BST
DTSTART:20260329T010000
END:DAYLIGHT
BEGIN:STANDARD
TZOFFSETFROM:+0100
TZOFFSETTO:+0000
TZNAME:GMT
DTSTART:20261025T010000
END:STANDARD
END:VTIMEZONE
BEGIN:VEVENT
DTSTART;TZID=Europe/London:20251212T190000
DTEND;TZID=Europe/London:20251212T220000
DTSTAMP:20260421T175043
CREATED:20251021T134959Z
LAST-MODIFIED:20251021T134959Z
UID:659-1765566000-1765576800@llangollen.events
SUMMARY:Movie: The Holdovers
DESCRIPTION:The New Dot Cinema will be showing this quirky Christmas movie at Llangollen Town Hall in the run up to the festive season!\nSet in the 1970s\, it follows a grumpy prep school teacher\, a troubled student\, and a grieving cook forced to spend Christmas together. Their unlikely bond leads to healing\, humor\, and compassion in this beautifully nostalgic\, character-driven film. \nGet Tickets
URL:https://llangollen.events/event/movie-the-holdovers/
LOCATION:Town Hall\, Llangollen Town Hall\, Llangollen\, Denbighshire\, LL20 8NU\, United Kingdom
CATEGORIES:Cinema
ATTACH;FMTTYPE=image/png:https://llangollen.events/wp-content/uploads/2025/10/Holdovers-Llangollen.png
END:VEVENT
END:VCALENDAR