BEGIN:VCALENDAR
VERSION:2.0
PRODID:-// - ECPv6.15.20//NONSGML v1.0//EN
CALSCALE:GREGORIAN
METHOD:PUBLISH
X-ORIGINAL-URL:https://llangollen.events
X-WR-CALDESC:Events for 
REFRESH-INTERVAL;VALUE=DURATION:PT1H
X-Robots-Tag:noindex
X-PUBLISHED-TTL:PT1H
BEGIN:VTIMEZONE
TZID:Europe/London
BEGIN:DAYLIGHT
TZOFFSETFROM:+0000
TZOFFSETTO:+0100
TZNAME:BST
DTSTART:20250330T010000
END:DAYLIGHT
BEGIN:STANDARD
TZOFFSETFROM:+0100
TZOFFSETTO:+0000
TZNAME:GMT
DTSTART:20251026T010000
END:STANDARD
BEGIN:DAYLIGHT
TZOFFSETFROM:+0000
TZOFFSETTO:+0100
TZNAME:BST
DTSTART:20260329T010000
END:DAYLIGHT
BEGIN:STANDARD
TZOFFSETFROM:+0100
TZOFFSETTO:+0000
TZNAME:GMT
DTSTART:20261025T010000
END:STANDARD
BEGIN:DAYLIGHT
TZOFFSETFROM:+0000
TZOFFSETTO:+0100
TZNAME:BST
DTSTART:20270328T010000
END:DAYLIGHT
BEGIN:STANDARD
TZOFFSETFROM:+0100
TZOFFSETTO:+0000
TZNAME:GMT
DTSTART:20271031T010000
END:STANDARD
END:VTIMEZONE
BEGIN:VEVENT
DTSTART;TZID=Europe/London:20260123T190000
DTEND;TZID=Europe/London:20260123T220000
DTSTAMP:20260419T152335
CREATED:20260116T160549Z
LAST-MODIFIED:20260116T160814Z
UID:694-1769194800-1769205600@llangollen.events
SUMMARY:The Barbie Movie
DESCRIPTION:Don your favourite pink attire and head down to the Town Hall for New Dot Cinema’s first move of the year!  \nFollow the adventures of Barbie as she questions her perfect world and explores the real one. It’s a real tonic to the dreary January weather! \nGet Tickets
URL:https://llangollen.events/event/the-barbie-movie/
LOCATION:Town Hall\, Llangollen Town Hall\, Llangollen\, Denbighshire\, LL20 8NU\, United Kingdom
CATEGORIES:Cinema
ATTACH;FMTTYPE=image/jpeg:https://llangollen.events/wp-content/uploads/2026/01/barbie-1.jpg
END:VEVENT
END:VCALENDAR