BEGIN:VCALENDAR
VERSION:2.0
PRODID:-// - ECPv6.15.20//NONSGML v1.0//EN
CALSCALE:GREGORIAN
METHOD:PUBLISH
X-ORIGINAL-URL:https://llangollen.events
X-WR-CALDESC:Events for 
REFRESH-INTERVAL;VALUE=DURATION:PT1H
X-Robots-Tag:noindex
X-PUBLISHED-TTL:PT1H
BEGIN:VTIMEZONE
TZID:Europe/London
BEGIN:DAYLIGHT
TZOFFSETFROM:+0000
TZOFFSETTO:+0100
TZNAME:BST
DTSTART:20240331T010000
END:DAYLIGHT
BEGIN:STANDARD
TZOFFSETFROM:+0100
TZOFFSETTO:+0000
TZNAME:GMT
DTSTART:20241027T010000
END:STANDARD
BEGIN:DAYLIGHT
TZOFFSETFROM:+0000
TZOFFSETTO:+0100
TZNAME:BST
DTSTART:20250330T010000
END:DAYLIGHT
BEGIN:STANDARD
TZOFFSETFROM:+0100
TZOFFSETTO:+0000
TZNAME:GMT
DTSTART:20251026T010000
END:STANDARD
BEGIN:DAYLIGHT
TZOFFSETFROM:+0000
TZOFFSETTO:+0100
TZNAME:BST
DTSTART:20260329T010000
END:DAYLIGHT
BEGIN:STANDARD
TZOFFSETFROM:+0100
TZOFFSETTO:+0000
TZNAME:GMT
DTSTART:20261025T010000
END:STANDARD
END:VTIMEZONE
BEGIN:VEVENT
DTSTART;VALUE=DATE:20251218
DTEND;VALUE=DATE:20251221
DTSTAMP:20260422T034453
CREATED:20251003T211053Z
LAST-MODIFIED:20251003T211053Z
UID:532-1766016000-1766275199@llangollen.events
SUMMARY:Pantomime: Jack & the Beanstalk
DESCRIPTION:To The Stage Productions are thrilled to be returning to the wonderful Llangollen Town Hall this December 2025\, with a Giant Christmas Pantomime… Jack and the Beanstalk!
URL:https://llangollen.events/event/pantomime-jack-the-beanstalk/
LOCATION:Town Hall\, Llangollen Town Hall\, Llangollen\, Denbighshire\, LL20 8NU\, United Kingdom
CATEGORIES:Pantomime
ATTACH;FMTTYPE=image/jpeg:https://llangollen.events/wp-content/uploads/2025/10/JNBPanto.jpg
END:VEVENT
END:VCALENDAR