BEGIN:VCALENDAR
VERSION:2.0
PRODID:-// - ECPv6.15.20//NONSGML v1.0//EN
CALSCALE:GREGORIAN
METHOD:PUBLISH
X-ORIGINAL-URL:https://llangollen.events
X-WR-CALDESC:Events for 
REFRESH-INTERVAL;VALUE=DURATION:PT1H
X-Robots-Tag:noindex
X-PUBLISHED-TTL:PT1H
BEGIN:VTIMEZONE
TZID:Europe/London
BEGIN:DAYLIGHT
TZOFFSETFROM:+0000
TZOFFSETTO:+0100
TZNAME:BST
DTSTART:20250330T010000
END:DAYLIGHT
BEGIN:STANDARD
TZOFFSETFROM:+0100
TZOFFSETTO:+0000
TZNAME:GMT
DTSTART:20251026T010000
END:STANDARD
BEGIN:DAYLIGHT
TZOFFSETFROM:+0000
TZOFFSETTO:+0100
TZNAME:BST
DTSTART:20260329T010000
END:DAYLIGHT
BEGIN:STANDARD
TZOFFSETFROM:+0100
TZOFFSETTO:+0000
TZNAME:GMT
DTSTART:20261025T010000
END:STANDARD
BEGIN:DAYLIGHT
TZOFFSETFROM:+0000
TZOFFSETTO:+0100
TZNAME:BST
DTSTART:20270328T010000
END:DAYLIGHT
BEGIN:STANDARD
TZOFFSETFROM:+0100
TZOFFSETTO:+0000
TZNAME:GMT
DTSTART:20271031T010000
END:STANDARD
END:VTIMEZONE
BEGIN:VEVENT
DTSTART;VALUE=DATE:20260115
DTEND;VALUE=DATE:20260119
DTSTAMP:20260422T015920
CREATED:20251003T210445Z
LAST-MODIFIED:20251004T071658Z
UID:529-1768435200-1768780799@llangollen.events
SUMMARY:Pantomime: Dick Whittington
DESCRIPTION:
URL:https://llangollen.events/event/pantomime-dick-whittington/
LOCATION:Town Hall\, Llangollen Town Hall\, Llangollen\, Denbighshire\, LL20 8NU\, United Kingdom
CATEGORIES:Pantomime
ATTACH;FMTTYPE=image/jpeg:https://llangollen.events/wp-content/uploads/2025/10/pantomime.jpg
END:VEVENT
BEGIN:VEVENT
DTSTART;TZID=Europe/London:20260116T190000
DTEND;TZID=Europe/London:20260116T230000
DTSTAMP:20260422T015920
CREATED:20260113T195628Z
LAST-MODIFIED:20260115T155304Z
UID:676-1768590000-1768604400@llangollen.events
SUMMARY:Live Music Friday - David Burton
DESCRIPTION:Another great evening of live music is lined up for you at Gales Wine Bar! \nFree entry\, just come along\, grab a drink and enjoy!
URL:https://llangollen.events/event/live-music-friday-david-burton-2/
LOCATION:Gales Wine Bar\, 18 Bridge St\,\, Llangollen\, Denbighshire\, LL20 8PF\, United Kingdom
CATEGORIES:Live Music
ATTACH;FMTTYPE=image/jpeg:https://llangollen.events/wp-content/uploads/2026/01/David-Burton.jpg
END:VEVENT
END:VCALENDAR