BEGIN:VCALENDAR
VERSION:2.0
PRODID:-// - ECPv6.15.20//NONSGML v1.0//EN
CALSCALE:GREGORIAN
METHOD:PUBLISH
X-ORIGINAL-URL:https://llangollen.events
X-WR-CALDESC:Events for 
REFRESH-INTERVAL;VALUE=DURATION:PT1H
X-Robots-Tag:noindex
X-PUBLISHED-TTL:PT1H
BEGIN:VTIMEZONE
TZID:Europe/London
BEGIN:DAYLIGHT
TZOFFSETFROM:+0000
TZOFFSETTO:+0100
TZNAME:BST
DTSTART:20240331T010000
END:DAYLIGHT
BEGIN:STANDARD
TZOFFSETFROM:+0100
TZOFFSETTO:+0000
TZNAME:GMT
DTSTART:20241027T010000
END:STANDARD
BEGIN:DAYLIGHT
TZOFFSETFROM:+0000
TZOFFSETTO:+0100
TZNAME:BST
DTSTART:20250330T010000
END:DAYLIGHT
BEGIN:STANDARD
TZOFFSETFROM:+0100
TZOFFSETTO:+0000
TZNAME:GMT
DTSTART:20251026T010000
END:STANDARD
BEGIN:DAYLIGHT
TZOFFSETFROM:+0000
TZOFFSETTO:+0100
TZNAME:BST
DTSTART:20260329T010000
END:DAYLIGHT
BEGIN:STANDARD
TZOFFSETFROM:+0100
TZOFFSETTO:+0000
TZNAME:GMT
DTSTART:20261025T010000
END:STANDARD
END:VTIMEZONE
BEGIN:VEVENT
DTSTART;TZID=Europe/London:20251122T190000
DTEND;TZID=Europe/London:20251122T213000
DTSTAMP:20260422T032630
CREATED:20250930T120411Z
LAST-MODIFIED:20251021T135520Z
UID:455-1763838000-1763847000@llangollen.events
SUMMARY:Movie: The Peanut Butter Falcon
DESCRIPTION:November’s New Dot Cinema movie will be the heart-warming road trip story ‘The Peanut Butter Falcon’.  \nThe Peanut Butter Falcon is a 2019 adventure comedy-drama film directed by Tyler Nilson and Michael Schwartz. It stars Zack Gottsagen as Zak\, a young man with Down syndrome who escapes from a care facility to pursue his dream of becoming a professional wrestler. Along the way\, he meets Tyler\, played by Shia LaBeouf\, a troubled fisherman on the run\, and the two form an unlikely friendship. Dakota Johnson co-stars as Eleanor\, a caregiver searching for Zak. The film delivers a heartfelt story about freedom\, friendship\, and self-discovery\, celebrating individuality and the power of chasing one’s dreams. \nGet Tickets
URL:https://llangollen.events/event/movie-the-peanut-butter-falcon/
LOCATION:Town Hall\, Llangollen Town Hall\, Llangollen\, Denbighshire\, LL20 8NU\, United Kingdom
CATEGORIES:Cinema
ATTACH;FMTTYPE=image/png:https://llangollen.events/wp-content/uploads/2025/09/Peanut-Butter-Falcon-Llangollen.png
END:VEVENT
END:VCALENDAR