BEGIN:VCALENDAR
VERSION:2.0
PRODID:-// - ECPv6.15.20//NONSGML v1.0//EN
CALSCALE:GREGORIAN
METHOD:PUBLISH
X-ORIGINAL-URL:https://llangollen.events
X-WR-CALDESC:Events for 
REFRESH-INTERVAL;VALUE=DURATION:PT1H
X-Robots-Tag:noindex
X-PUBLISHED-TTL:PT1H
BEGIN:VTIMEZONE
TZID:Europe/London
BEGIN:DAYLIGHT
TZOFFSETFROM:+0000
TZOFFSETTO:+0100
TZNAME:BST
DTSTART:20250330T010000
END:DAYLIGHT
BEGIN:STANDARD
TZOFFSETFROM:+0100
TZOFFSETTO:+0000
TZNAME:GMT
DTSTART:20251026T010000
END:STANDARD
BEGIN:DAYLIGHT
TZOFFSETFROM:+0000
TZOFFSETTO:+0100
TZNAME:BST
DTSTART:20260329T010000
END:DAYLIGHT
BEGIN:STANDARD
TZOFFSETFROM:+0100
TZOFFSETTO:+0000
TZNAME:GMT
DTSTART:20261025T010000
END:STANDARD
BEGIN:DAYLIGHT
TZOFFSETFROM:+0000
TZOFFSETTO:+0100
TZNAME:BST
DTSTART:20270328T010000
END:DAYLIGHT
BEGIN:STANDARD
TZOFFSETFROM:+0100
TZOFFSETTO:+0000
TZNAME:GMT
DTSTART:20271031T010000
END:STANDARD
END:VTIMEZONE
BEGIN:VEVENT
DTSTART;TZID=Europe/London:20260626T180000
DTEND;TZID=Europe/London:20260626T220000
DTSTAMP:20260421T212709
CREATED:20251004T104258Z
LAST-MODIFIED:20251004T104459Z
UID:540-1782496800-1782511200@llangollen.events
SUMMARY:David Gray supported by The Divine Comedy
DESCRIPTION:David Gray will bring his Past & Present World Tour to Llangollen Pavilion on Friday 26th June 2026. David will be joined on the night by The Divine Comedy.  \nGet Tickets
URL:https://llangollen.events/event/david-gray-supported-by-the-divine-comedy/
LOCATION:Llangollen Pavilion\, Abbey Rd\,\, Llangollen\, LL20 8SW\, United Kingdom
CATEGORIES:Eisteddfod,Live Music
ATTACH;FMTTYPE=image/jpeg:https://llangollen.events/wp-content/uploads/2025/10/David-Gray-Llangollen.jpg
END:VEVENT
BEGIN:VEVENT
DTSTART;TZID=Europe/London:20260710T170000
DTEND;TZID=Europe/London:20260710T223000
DTSTAMP:20260421T212709
CREATED:20251027T200541Z
LAST-MODIFIED:20251027T200541Z
UID:663-1783702800-1783722600@llangollen.events
SUMMARY:Emeli Sande with The Absolute Orchestra
DESCRIPTION:Emeli Sandé rose to fame with her debut album Our Version of Events (2012)\, which became the UK’s biggest-selling album that year.  \nHer style blends soul\, pop and R&B\, and she will be bringing her special orchestral show in partnership with the The Absolute Orchestra to Llangollen Eisteddfod in July 2026.
URL:https://llangollen.events/event/emeli-sande-with-the-absolute-orchestra/
LOCATION:Llangollen Pavilion\, Abbey Rd\,\, Llangollen\, LL20 8SW\, United Kingdom
CATEGORIES:Eisteddfod,Live Music
ATTACH;FMTTYPE=image/jpeg:https://llangollen.events/wp-content/uploads/2025/10/Emili-Sande-Llangollen-Wales.jpg
END:VEVENT
BEGIN:VEVENT
DTSTART;TZID=Europe/London:20260711T170000
DTEND;TZID=Europe/London:20260711T223000
DTSTAMP:20260421T212709
CREATED:20251027T202335Z
LAST-MODIFIED:20251029T112957Z
UID:666-1783789200-1783809000@llangollen.events
SUMMARY:An Evening with Michael Ball
DESCRIPTION:Sunday night of Eisteddfod week will be an evening with national treasure Michael Ball. \nMichael gained fame starring in West End musicals such as Les Misérables\, Phantom of the Opera\, and Hairspray. He has also released numerous chart-topping albums and frequently collaborates with Alfie Boe who performed at the Eisteddfod in 2023.
URL:https://llangollen.events/event/an-evening-with-michael-ball/
LOCATION:Llangollen Pavilion\, Abbey Rd\,\, Llangollen\, LL20 8SW\, United Kingdom
CATEGORIES:Eisteddfod,Live Music
ATTACH;FMTTYPE=image/jpeg:https://llangollen.events/wp-content/uploads/2025/10/Michael-Ball-Llangollen-Wales.jpg
END:VEVENT
END:VCALENDAR