BEGIN:VCALENDAR
VERSION:2.0
PRODID:-// - ECPv6.15.20//NONSGML v1.0//EN
CALSCALE:GREGORIAN
METHOD:PUBLISH
X-ORIGINAL-URL:https://llangollen.events
X-WR-CALDESC:Events for 
REFRESH-INTERVAL;VALUE=DURATION:PT1H
X-Robots-Tag:noindex
X-PUBLISHED-TTL:PT1H
BEGIN:VTIMEZONE
TZID:Europe/London
BEGIN:DAYLIGHT
TZOFFSETFROM:+0000
TZOFFSETTO:+0100
TZNAME:BST
DTSTART:20240331T010000
END:DAYLIGHT
BEGIN:STANDARD
TZOFFSETFROM:+0100
TZOFFSETTO:+0000
TZNAME:GMT
DTSTART:20241027T010000
END:STANDARD
BEGIN:DAYLIGHT
TZOFFSETFROM:+0000
TZOFFSETTO:+0100
TZNAME:BST
DTSTART:20250330T010000
END:DAYLIGHT
BEGIN:STANDARD
TZOFFSETFROM:+0100
TZOFFSETTO:+0000
TZNAME:GMT
DTSTART:20251026T010000
END:STANDARD
BEGIN:DAYLIGHT
TZOFFSETFROM:+0000
TZOFFSETTO:+0100
TZNAME:BST
DTSTART:20260329T010000
END:DAYLIGHT
BEGIN:STANDARD
TZOFFSETFROM:+0100
TZOFFSETTO:+0000
TZNAME:GMT
DTSTART:20261025T010000
END:STANDARD
END:VTIMEZONE
BEGIN:VEVENT
DTSTART;TZID=Europe/London:20251031T183000
DTEND;TZID=Europe/London:20251031T220000
DTSTAMP:20260422T003306
CREATED:20250925T102531Z
LAST-MODIFIED:20250925T102939Z
UID:389-1761935400-1761948000@llangollen.events
SUMMARY:Hammerbeams & Harmonies (Collen Players)
DESCRIPTION:The Collen Players bring you another fun packed variety show this Halloween! Enjoy the show and supper for just £15. \nAll proceeds to St Collen’s Medieval Hammerbeam Roof (The Welsh Sistine) Restoration Appeal \nGet Tickets
URL:https://llangollen.events/event/hammerbeams-harmonies-collen-players/
LOCATION:St Collens\, LL20 8PL\, Llangollen\, Denbighshire\, LL20 8PL\, United Kingdom
CATEGORIES:Comedy,Live Music,Variety
ATTACH;FMTTYPE=image/jpeg:https://llangollen.events/wp-content/uploads/2025/09/Collen-Players-Halloween.jpg
END:VEVENT
END:VCALENDAR