BEGIN:VCALENDAR
VERSION:2.0
PRODID:-// - ECPv6.15.20//NONSGML v1.0//EN
CALSCALE:GREGORIAN
METHOD:PUBLISH
X-ORIGINAL-URL:https://llangollen.events
X-WR-CALDESC:Events for 
REFRESH-INTERVAL;VALUE=DURATION:PT1H
X-Robots-Tag:noindex
X-PUBLISHED-TTL:PT1H
BEGIN:VTIMEZONE
TZID:Europe/London
BEGIN:DAYLIGHT
TZOFFSETFROM:+0000
TZOFFSETTO:+0100
TZNAME:BST
DTSTART:20250330T010000
END:DAYLIGHT
BEGIN:STANDARD
TZOFFSETFROM:+0100
TZOFFSETTO:+0000
TZNAME:GMT
DTSTART:20251026T010000
END:STANDARD
BEGIN:DAYLIGHT
TZOFFSETFROM:+0000
TZOFFSETTO:+0100
TZNAME:BST
DTSTART:20260329T010000
END:DAYLIGHT
BEGIN:STANDARD
TZOFFSETFROM:+0100
TZOFFSETTO:+0000
TZNAME:GMT
DTSTART:20261025T010000
END:STANDARD
BEGIN:DAYLIGHT
TZOFFSETFROM:+0000
TZOFFSETTO:+0100
TZNAME:BST
DTSTART:20270328T010000
END:DAYLIGHT
BEGIN:STANDARD
TZOFFSETFROM:+0100
TZOFFSETTO:+0000
TZNAME:GMT
DTSTART:20271031T010000
END:STANDARD
END:VTIMEZONE
BEGIN:VEVENT
DTSTART;TZID=Europe/London:20260125T150000
DTEND;TZID=Europe/London:20260125T190000
DTSTAMP:20260422T033123
CREATED:20260118T185020Z
LAST-MODIFIED:20260118T185255Z
UID:725-1769353200-1769367600@llangollen.events
SUMMARY:Open Mic - hosted by Andy Hickie
DESCRIPTION:A Andy Hickie hosts this relaxed Sunday afternoon open mic at the Bridge End pub in Llangollen.\nCome along and take part or just grab a drink\, sit back and enjoy the afternoon!
URL:https://llangollen.events/event/open-mic-hosted-by-andy-hickie/
LOCATION:Bridge End Hotel\, 1927 Mill St\,\, Llangollen\, Denbighshire\, LL20 8RY\, United Kingdom
CATEGORIES:Open Mic
ATTACH;FMTTYPE=image/jpeg:https://llangollen.events/wp-content/uploads/2026/01/Bridge-End-Open-Micjpg.jpg
END:VEVENT
BEGIN:VEVENT
DTSTART;TZID=Europe/London:20260126T190000
DTEND;TZID=Europe/London:20260126T220000
DTSTAMP:20260422T033123
CREATED:20260118T183540Z
LAST-MODIFIED:20260118T183540Z
UID:718-1769454000-1769464800@llangollen.events
SUMMARY:Spoken Word Evening
DESCRIPTION:Come along to Gales’s first Spoken Word event of the year! It’s an open mic but for poetry.\nAnyone can take part or you can just come along and enjoy a pleasant evening of food\, wine\, good company and poetry!
URL:https://llangollen.events/event/spoken-word-evening/
LOCATION:Gales Wine Bar\, 18 Bridge St\,\, Llangollen\, Denbighshire\, LL20 8PF\, United Kingdom
CATEGORIES:Open Mic,Spoken Word/Poetry
ATTACH;FMTTYPE=image/jpeg:https://llangollen.events/wp-content/uploads/2025/10/spoken-word.jpg
END:VEVENT
BEGIN:VEVENT
DTSTART;TZID=Europe/London:20260130T190000
DTEND;TZID=Europe/London:20260130T230000
DTSTAMP:20260422T033123
CREATED:20260118T184619Z
LAST-MODIFIED:20260124T180553Z
UID:723-1769799600-1769814000@llangollen.events
SUMMARY:Live Music Friday: Abstract
DESCRIPTION:Every Friday night is a night to enjoy live music at Gales.
URL:https://llangollen.events/event/live-music-friday-abstract/
LOCATION:Gales Wine Bar\, 18 Bridge St\,\, Llangollen\, Denbighshire\, LL20 8PF\, United Kingdom
CATEGORIES:Live Music
ATTACH;FMTTYPE=image/jpeg:https://llangollen.events/wp-content/uploads/2026/01/Abstract-band.jpg
END:VEVENT
BEGIN:VEVENT
DTSTART;TZID=Europe/London:20260131T200000
DTEND;TZID=Europe/London:20260131T223000
DTSTAMP:20260422T033124
CREATED:20260118T185731Z
LAST-MODIFIED:20260118T185731Z
UID:728-1769889600-1769898600@llangollen.events
SUMMARY:Parkin and Heys
DESCRIPTION:Acoustic duet Parkin and Heys will be performing live at the Bridge End. \nCome along and end January on a high note with live music starting at 8:30pm
URL:https://llangollen.events/event/parkin-and-heys/
LOCATION:Bridge End Hotel\, 1927 Mill St\,\, Llangollen\, Denbighshire\, LL20 8RY\, United Kingdom
CATEGORIES:Live Music
ATTACH;FMTTYPE=image/jpeg:https://llangollen.events/wp-content/uploads/2026/01/parkin-and-heyes.jpg
END:VEVENT
BEGIN:VEVENT
DTSTART;TZID=Europe/London:20260206T190000
DTEND;TZID=Europe/London:20260206T220000
DTSTAMP:20260422T033124
CREATED:20260124T181301Z
LAST-MODIFIED:20260124T181301Z
UID:756-1770404400-1770415200@llangollen.events
SUMMARY:February Comedy Club
DESCRIPTION:Comedy night returns to Llangollen Town Hall with a tremendous line up of emerging comedians this February. \nHosted as usual by Silky and joined by Susan Murray\, Katie Tracey\, Ricky Balshaw. \nTickets are available online Get Tickets
URL:https://llangollen.events/event/february-comedy-club/
LOCATION:Town Hall\, Llangollen Town Hall\, Llangollen\, Denbighshire\, LL20 8NU\, United Kingdom
CATEGORIES:Comedy
ATTACH;FMTTYPE=image/png:https://llangollen.events/wp-content/uploads/2026/01/Feb_Comedy_Llangollen.png
END:VEVENT
BEGIN:VEVENT
DTSTART;TZID=Europe/London:20260206T193000
DTEND;TZID=Europe/London:20260206T223000
DTSTAMP:20260422T033124
CREATED:20260204T141305Z
LAST-MODIFIED:20260204T141305Z
UID:802-1770406200-1770417000@llangollen.events
SUMMARY:Live Music Friday: Los Amotinados
DESCRIPTION:Los Amotinados is a North Wales-based folk band known for playing sea shanties\, folk tunes\, and lively music. Based in the Caernarfon area\, they frequently perform at venues like Y Segontiwm\, The Gazelle Hotel\, and festivals such as Rhuddfest. They are known for creating a high-energy\, maritime-themed atmosphere. \nCatch them at Gales Wine Bar for Live Music Friday!
URL:https://llangollen.events/event/live-music-friday-los-amotinados/
LOCATION:Gales Wine Bar\, 18 Bridge St\,\, Llangollen\, Denbighshire\, LL20 8PF\, United Kingdom
CATEGORIES:Live Music
ATTACH;FMTTYPE=image/jpeg:https://llangollen.events/wp-content/uploads/2026/02/los-amotinados.jpg
END:VEVENT
BEGIN:VEVENT
DTSTART;TZID=Europe/London:20260207T200000
DTEND;TZID=Europe/London:20260207T230000
DTSTAMP:20260422T033124
CREATED:20260124T182432Z
LAST-MODIFIED:20260124T184542Z
UID:760-1770494400-1770505200@llangollen.events
SUMMARY:Live Music: Body Meta
DESCRIPTION:Body Meta is a high energy trio of musicians and are regular performers at the Sun Inn. Free event
URL:https://llangollen.events/event/live-music-body-meta/
LOCATION:The Sun Inn\, 49 Regent Street\, Llangollen\, LL20 8HN\, United Kingdom
CATEGORIES:Live Music
ATTACH;FMTTYPE=image/jpeg:https://llangollen.events/wp-content/uploads/2026/01/Body-Meta-Band-Llangollen.jpg
END:VEVENT
BEGIN:VEVENT
DTSTART;TZID=Europe/London:20260213T193000
DTEND;TZID=Europe/London:20260213T223000
DTSTAMP:20260422T033124
CREATED:20260204T141759Z
LAST-MODIFIED:20260204T141759Z
UID:805-1771011000-1771021800@llangollen.events
SUMMARY:Live Music Friday: Igloo Hearts
DESCRIPTION:Igloo Hearts is a musical folk-pop duo composed of married musicians James and Katie MacGregor. They are known for their “haunting harmonies\, cinematic piano\, and intricate guitar playing and have released a debut album titled Eyes Closed Against the Sun. A perfect start to this Valentine’s weekend!
URL:https://llangollen.events/event/live-music-friday-igloo-hearts/
LOCATION:Gales Wine Bar\, 18 Bridge St\,\, Llangollen\, Denbighshire\, LL20 8PF\, United Kingdom
CATEGORIES:Live Music
ATTACH;FMTTYPE=image/jpeg:https://llangollen.events/wp-content/uploads/2026/02/Igloo-Hearts.jpg
END:VEVENT
BEGIN:VEVENT
DTSTART;TZID=Europe/London:20260217T190000
DTEND;TZID=Europe/London:20260217T230000
DTSTAMP:20260422T033124
CREATED:20260113T202403Z
LAST-MODIFIED:20260204T142454Z
UID:689-1771354800-1771369200@llangollen.events
SUMMARY:Gales Open Mic
DESCRIPTION:Gales hosts open mic every other Tuesday. It’s an evening unlike any other and not to be missed!
URL:https://llangollen.events/event/gales-open-mic-3/
LOCATION:Gales Wine Bar\, 18 Bridge St\,\, Llangollen\, Denbighshire\, LL20 8PF\, United Kingdom
CATEGORIES:Open Mic
ATTACH;FMTTYPE=image/jpeg:https://llangollen.events/wp-content/uploads/2025/09/Gales-Open-Mic.jpg
END:VEVENT
BEGIN:VEVENT
DTSTART;TZID=Europe/London:20260220T193000
DTEND;TZID=Europe/London:20260220T223000
DTSTAMP:20260422T033124
CREATED:20260204T142355Z
LAST-MODIFIED:20260204T142355Z
UID:808-1771615800-1771626600@llangollen.events
SUMMARY:Live Music Friday: The Innocent
DESCRIPTION:The Innocent are a popular\, experienced acoustic-based band operating out of Shropshire and North Wales\, known for blending upbeat covers with original material. Established in 2010\, the group frequently performs as a trio or quartet\, featuring instruments like guitar\, violin\, and drums.
URL:https://llangollen.events/event/live-music-friday-the-innocent/
LOCATION:Gales Wine Bar\, 18 Bridge St\,\, Llangollen\, Denbighshire\, LL20 8PF\, United Kingdom
CATEGORIES:Live Music
ATTACH;FMTTYPE=image/jpeg:https://llangollen.events/wp-content/uploads/2026/02/the-innocent.jpg
END:VEVENT
BEGIN:VEVENT
DTSTART;TZID=Europe/London:20260221T190000
DTEND;TZID=Europe/London:20260221T213000
DTSTAMP:20260422T033124
CREATED:20260123T145555Z
LAST-MODIFIED:20260123T145721Z
UID:741-1771700400-1771709400@llangollen.events
SUMMARY:Cinema: The Toll
DESCRIPTION:This quirky Welsh movie is exactly why The New Dot Cinema exists! Come along and discover this dark comedy about a solitary toll-booth operator tries to stay hidden from his criminal past on Wales’ quietest road. Based in Llangollen Town Hall\, the New Dot Cinema is an independent pop up movie theatre. Grab a drink at the bar and gather round a table with friends\, soak up the atmosphere and enjoy a unique range of films. \nGet Tickets
URL:https://llangollen.events/event/cinema-the-toll/
LOCATION:Town Hall\, Llangollen Town Hall\, Llangollen\, Denbighshire\, LL20 8NU\, United Kingdom
CATEGORIES:Cinema
ATTACH;FMTTYPE=image/jpeg:https://llangollen.events/wp-content/uploads/2026/01/The_Toll_2021_film_poster.jpg
END:VEVENT
BEGIN:VEVENT
DTSTART;TZID=Europe/London:20260224T080000
DTEND;TZID=Europe/London:20260224T223000
DTSTAMP:20260422T033124
CREATED:20260118T184203Z
LAST-MODIFIED:20260204T143655Z
UID:720-1771920000-1771972200@llangollen.events
SUMMARY:Can Can Cafe Jazz
DESCRIPTION:Can-Can Café Jazz at Gales Wine Bar blends chic\, continental jazz\, French and Latin rhythms. Add great wine\, food and company and you’re set for an entertaining but relaxed evening!
URL:https://llangollen.events/event/can-can-cafe-jazz/
LOCATION:Gales Wine Bar\, 18 Bridge St\,\, Llangollen\, Denbighshire\, LL20 8PF\, United Kingdom
CATEGORIES:Live Music
ATTACH;FMTTYPE=image/jpeg:https://llangollen.events/wp-content/uploads/2026/01/can-can-cafe-jazz-gales.jpg
END:VEVENT
BEGIN:VEVENT
DTSTART;TZID=Europe/London:20260226T190000
DTEND;TZID=Europe/London:20260226T213000
DTSTAMP:20260422T033124
CREATED:20251004T114103Z
LAST-MODIFIED:20260113T201034Z
UID:548-1772132400-1772141400@llangollen.events
SUMMARY:The Little Mermaid JR (Opening Night)
DESCRIPTION:Llangollen Young Uns brings this Disney classic to the Llangollen audience in February 2026 \nBuy Tickets
URL:https://llangollen.events/event/the-little-mermaid-jr/
LOCATION:Town Hall\, Llangollen Town Hall\, Llangollen\, Denbighshire\, LL20 8NU\, United Kingdom
CATEGORIES:Musical Theatre
ATTACH;FMTTYPE=image/jpeg:https://llangollen.events/wp-content/uploads/2025/10/little-mermaid.jpg
END:VEVENT
BEGIN:VEVENT
DTSTART;TZID=Europe/London:20260227T190000
DTEND;TZID=Europe/London:20260227T213000
DTSTAMP:20260422T033124
CREATED:20260113T200400Z
LAST-MODIFIED:20260113T201533Z
UID:678-1772218800-1772227800@llangollen.events
SUMMARY:The Little Mermaid Jnr (Friday Night Show)
DESCRIPTION:Llangollen Young Uns brings this Disney classic to the Llangollen audience in February 2026 \nBuy Tickets
URL:https://llangollen.events/event/the-little-mermaid-jnr-friday-night-show/
LOCATION:Town Hall\, Llangollen Town Hall\, Llangollen\, Denbighshire\, LL20 8NU\, United Kingdom
CATEGORIES:Musical Theatre
ATTACH;FMTTYPE=image/jpeg:https://llangollen.events/wp-content/uploads/2025/10/little-mermaid.jpg
END:VEVENT
BEGIN:VEVENT
DTSTART;TZID=Europe/London:20260228T140000
DTEND;TZID=Europe/London:20260228T170000
DTSTAMP:20260422T033124
CREATED:20260113T200628Z
LAST-MODIFIED:20260113T200628Z
UID:680-1772287200-1772298000@llangollen.events
SUMMARY:The Little Mermaid (Saturday Matinee)
DESCRIPTION:Llangollen Young Uns brings this Disney classic to the Llangollen audience in February 2026 \nBuy Tickets
URL:https://llangollen.events/event/the-little-mermaid-saturday-matinee/
LOCATION:Town Hall\, Llangollen Town Hall\, Llangollen\, Denbighshire\, LL20 8NU\, United Kingdom
CATEGORIES:Musical Theatre
ATTACH;FMTTYPE=image/jpeg:https://llangollen.events/wp-content/uploads/2025/10/little-mermaid.jpg
END:VEVENT
BEGIN:VEVENT
DTSTART;TZID=Europe/London:20260228T190000
DTEND;TZID=Europe/London:20260228T213000
DTSTAMP:20260422T033124
CREATED:20260113T201309Z
LAST-MODIFIED:20260113T201309Z
UID:684-1772305200-1772314200@llangollen.events
SUMMARY:The Little Mermaid (Closing Night)
DESCRIPTION:Llangollen Young Uns brings this Disney classic to the Llangollen audience in February 2026 \nBuy Tickets
URL:https://llangollen.events/event/the-little-mermaid-closing-night/
LOCATION:Town Hall\, Llangollen Town Hall\, Llangollen\, Denbighshire\, LL20 8NU\, United Kingdom
CATEGORIES:Musical Theatre
ATTACH;FMTTYPE=image/jpeg:https://llangollen.events/wp-content/uploads/2025/10/little-mermaid.jpg
END:VEVENT
BEGIN:VEVENT
DTSTART;TZID=Europe/London:20260314T190000
DTEND;TZID=Europe/London:20260314T213000
DTSTAMP:20260422T033124
CREATED:20260130T161949Z
LAST-MODIFIED:20260131T171619Z
UID:766-1773514800-1773523800@llangollen.events
SUMMARY:A Night at the Opera
DESCRIPTION:An evening of favourites from Mozart\, Verdi\, Puccini and more. And a touch of musical theatre!\nSolo arias\, duets and ensembles of well-known opera pieces brought to you by singers from North Wales Opera. \nGet Tickets
URL:https://llangollen.events/event/a-night-at-the-opera/
LOCATION:Town Hall\, Llangollen Town Hall\, Llangollen\, Denbighshire\, LL20 8NU\, United Kingdom
CATEGORIES:Opera
ATTACH;FMTTYPE=image/png:https://llangollen.events/wp-content/uploads/2026/01/Night-at-the-Opera-1.png
END:VEVENT
BEGIN:VEVENT
DTSTART;TZID=Europe/London:20260327T190000
DTEND;TZID=Europe/London:20260327T220000
DTSTAMP:20260422T033124
CREATED:20260131T201239Z
LAST-MODIFIED:20260131T201239Z
UID:786-1774638000-1774648800@llangollen.events
SUMMARY:New Dot Cinema: Parasite
DESCRIPTION:Oscar-winning movie Parasite is a razor-sharp thriller about class division\, desire\, and deception. This Korean language movie is about a poor family which infiltrates a wealthy household\, blurring morality and survival. This dark humor is full of shocking twists and turns\, revealing how capitalism and inequality corrodes relationships and erupts into violence. \nGet Tickets
URL:https://llangollen.events/event/new-dot-cinema-parasite/
LOCATION:Town Hall\, Llangollen Town Hall\, Llangollen\, Denbighshire\, LL20 8NU\, United Kingdom
CATEGORIES:Cinema
ATTACH;FMTTYPE=image/jpeg:https://llangollen.events/wp-content/uploads/2026/01/Parasite-New-Dot-Cinema-Llangollen.jpg
END:VEVENT
BEGIN:VEVENT
DTSTART;VALUE=DATE:20260404
DTEND;VALUE=DATE:20260405
DTSTAMP:20260422T033124
CREATED:20260123T152851Z
LAST-MODIFIED:20260123T153346Z
UID:749-1775260800-1775347199@llangollen.events
SUMMARY:Wales Comic Con
DESCRIPTION:Wales Comic Con returns to the Llangollen Pavilion for a two day event this April. More details to be announced soon!
URL:https://llangollen.events/event/wales-comic-con/
LOCATION:Llangollen Pavilion\, Abbey Rd\,\, Llangollen\, LL20 8SW\, United Kingdom
CATEGORIES:Comic Con,Themed Events
ATTACH;FMTTYPE=image/jpeg:https://llangollen.events/wp-content/uploads/2026/01/Comic-Con-Llangollen.jpg
END:VEVENT
BEGIN:VEVENT
DTSTART;VALUE=DATE:20260405
DTEND;VALUE=DATE:20260406
DTSTAMP:20260422T033124
CREATED:20260123T153311Z
LAST-MODIFIED:20260123T153311Z
UID:753-1775347200-1775433599@llangollen.events
SUMMARY:Wales Comic Con
DESCRIPTION:Wales Comic Con returns to the Llangollen Pavilion for a two day event this April. More details to be announced soon!
URL:https://llangollen.events/event/wales-comic-con-2/
LOCATION:Llangollen Pavilion\, Abbey Rd\,\, Llangollen\, LL20 8SW\, United Kingdom
CATEGORIES:Comic Con,Themed Events
ATTACH;FMTTYPE=image/jpeg:https://llangollen.events/wp-content/uploads/2026/01/Comic-Con-Llangollen.jpg
END:VEVENT
BEGIN:VEVENT
DTSTART;TZID=Europe/London:20260422T190000
DTEND;TZID=Europe/London:20260422T220000
DTSTAMP:20260422T033124
CREATED:20251004T111148Z
LAST-MODIFIED:20260131T195835Z
UID:545-1776884400-1776895200@llangollen.events
SUMMARY:Great British Bake Off The Musical
DESCRIPTION:Llangollen Operatic Society is bringing this musical adaptation of the much loved TV show to the Llangollen stage! \nGet Tickets
URL:https://llangollen.events/event/the-great-british-bake-off-musical/
LOCATION:Town Hall\, Llangollen Town Hall\, Llangollen\, Denbighshire\, LL20 8NU\, United Kingdom
CATEGORIES:Musical Theatre
ATTACH;FMTTYPE=image/jpeg:https://llangollen.events/wp-content/uploads/2025/10/bake-off.jpg
END:VEVENT
BEGIN:VEVENT
DTSTART;TZID=Europe/London:20260423T190000
DTEND;TZID=Europe/London:20260423T220000
DTSTAMP:20260422T033124
CREATED:20260131T194500Z
LAST-MODIFIED:20260131T194500Z
UID:777-1776970800-1776981600@llangollen.events
SUMMARY:Great British Bake Off The Musical
DESCRIPTION:Llangollen Operatic Society is bringing this musical adaptation of the much loved TV show to the Llangollen stage! \nGet Tickets
URL:https://llangollen.events/event/great-british-bake-off-the-musical/
LOCATION:Town Hall\, Llangollen Town Hall\, Llangollen\, Denbighshire\, LL20 8NU\, United Kingdom
CATEGORIES:Musical Theatre
ATTACH;FMTTYPE=image/jpeg:https://llangollen.events/wp-content/uploads/2025/09/bake-off.jpg
END:VEVENT
BEGIN:VEVENT
DTSTART;TZID=Europe/London:20260424T190000
DTEND;TZID=Europe/London:20260424T220000
DTSTAMP:20260422T033124
CREATED:20260131T194703Z
LAST-MODIFIED:20260131T194803Z
UID:779-1777057200-1777068000@llangollen.events
SUMMARY:Great British Bake Off The Musical
DESCRIPTION:Llangollen Operatic Society is bringing this musical adaptation of the much loved TV show to the Llangollen stage! \nGet Tickets
URL:https://llangollen.events/event/great-british-bake-off-the-musical-2/
LOCATION:Town Hall\, Llangollen Town Hall\, Llangollen\, Denbighshire\, LL20 8NU\, United Kingdom
CATEGORIES:Musical Theatre
ATTACH;FMTTYPE=image/jpeg:https://llangollen.events/wp-content/uploads/2025/10/bake-off.jpg
END:VEVENT
BEGIN:VEVENT
DTSTART;TZID=Europe/London:20260425T140000
DTEND;TZID=Europe/London:20260425T150000
DTSTAMP:20260422T033124
CREATED:20260131T195317Z
LAST-MODIFIED:20260131T195409Z
UID:781-1777125600-1777129200@llangollen.events
SUMMARY:Great British Bake Off The Musical (Saturday Matinee)
DESCRIPTION:Llangollen Operatic Society is bringing this musical adaptation of the much loved TV show to the Llangollen stage! \nGet Tickets
URL:https://llangollen.events/event/great-british-bake-off-the-musical-saturday-matinee/
LOCATION:Town Hall\, Llangollen Town Hall\, Llangollen\, Denbighshire\, LL20 8NU\, United Kingdom
CATEGORIES:Musical Theatre
ATTACH;FMTTYPE=image/jpeg:https://llangollen.events/wp-content/uploads/2025/10/bake-off.jpg
END:VEVENT
BEGIN:VEVENT
DTSTART;TZID=Europe/London:20260425T190000
DTEND;TZID=Europe/London:20260425T220000
DTSTAMP:20260422T033124
CREATED:20260131T195622Z
LAST-MODIFIED:20260131T195622Z
UID:783-1777143600-1777154400@llangollen.events
SUMMARY:Great British Bake Off The Musical
DESCRIPTION:Llangollen Operatic Society is bringing this musical adaptation of the much loved TV show to the Llangollen stage! \nGet Tickets
URL:https://llangollen.events/event/great-british-bake-off-the-musical-3/
LOCATION:Town Hall\, Llangollen Town Hall\, Llangollen\, Denbighshire\, LL20 8NU\, United Kingdom
CATEGORIES:Musical Theatre
ATTACH;FMTTYPE=image/jpeg:https://llangollen.events/wp-content/uploads/2025/10/bake-off.jpg
END:VEVENT
BEGIN:VEVENT
DTSTART;TZID=Europe/London:20260513T190000
DTEND;TZID=Europe/London:20260513T213000
DTSTAMP:20260422T033124
CREATED:20260118T095813Z
LAST-MODIFIED:20260118T100231Z
UID:698-1778698800-1778707800@llangollen.events
SUMMARY:Verdi's Rigoletto
DESCRIPTION:Rigoletto is Verdi’s tragic opera about a cynical court jester\, his sheltered daughter Gilda\, and a ruthless duke.  \nWith themes of love betrayal and revenge coupled with well known music\, audiences will be in for a treat! \nEnjoy an evening of stunning vocal performances by emerging opera stars of the North Wales Opera accompanied by a live orchestra. \nVarious ticket prices apply for concessions  \nGet Tickets
URL:https://llangollen.events/event/verdis-rigoletto/
LOCATION:Town Hall\, Llangollen Town Hall\, Llangollen\, Denbighshire\, LL20 8NU\, United Kingdom
CATEGORIES:Opera
ATTACH;FMTTYPE=image/jpeg:https://llangollen.events/wp-content/uploads/2026/01/rigoletto-llangollen.jpg
END:VEVENT
BEGIN:VEVENT
DTSTART;VALUE=DATE:20260516
DTEND;VALUE=DATE:20260518
DTSTAMP:20260422T033124
CREATED:20260118T191359Z
LAST-MODIFIED:20260118T191359Z
UID:734-1778889600-1779062399@llangollen.events
SUMMARY:Wales Horror Con
DESCRIPTION:Following on from last years Comicon at the Llangollen International Pavilion\, this May sees the Pavilion host ‘Wales Horror Con’. \nDressing up is very much encouraged and more details of special guests and events will be revealed soon! Tickets available soon!
URL:https://llangollen.events/event/wales-horror-con/
LOCATION:Llangollen Pavilion\, Abbey Rd\,\, Llangollen\, LL20 8SW\, United Kingdom
CATEGORIES:Comocon,Themed Events
ATTACH;FMTTYPE=image/jpeg:https://llangollen.events/wp-content/uploads/2026/01/wales-horror-con.jpg
END:VEVENT
BEGIN:VEVENT
DTSTART;TZID=Europe/London:20260624T173000
DTEND;TZID=Europe/London:20260624T230000
DTSTAMP:20260422T033124
CREATED:20260124T190054Z
LAST-MODIFIED:20260124T190054Z
UID:763-1782322200-1782342000@llangollen.events
SUMMARY:Rick Astley
DESCRIPTION:Famed for the 1987 hit “Never Gonna Give You Up” (which more recently became an internet meme) and many more fun and soulful pop songs such as ‘Together For Ever’ and ‘Hold Me In Your Arms’. \nHe’s bound to bring his ‘ever-boyish’ energy to the Pavilion stage this summer! \nBuy Tickets
URL:https://llangollen.events/event/rick-astley/
LOCATION:Llangollen Pavilion\, Abbey Rd\,\, Llangollen\, LL20 8SW\, United Kingdom
CATEGORIES:Live Music
ATTACH;FMTTYPE=image/jpeg:https://llangollen.events/wp-content/uploads/2026/01/RIck-Astley.jpg
END:VEVENT
BEGIN:VEVENT
DTSTART;TZID=Europe/London:20260625T173000
DTEND;TZID=Europe/London:20260625T230000
DTSTAMP:20260422T033124
CREATED:20251013T094914Z
LAST-MODIFIED:20251016T123925Z
UID:623-1782408600-1782428400@llangollen.events
SUMMARY:Pete Tong - Ibiza Classics
DESCRIPTION:Catch Pete Tong’s Ibiza Classics Show live at the Llangollen Pavilion! \nEnjoy this dazzling fusion of dance anthems and orchestral brilliance in summer 2026
URL:https://llangollen.events/event/pete-tong-ibiza-classics/
LOCATION:Llangollen Pavilion\, Abbey Rd\,\, Llangollen\, LL20 8SW\, United Kingdom
CATEGORIES:Live Music
ATTACH;FMTTYPE=image/jpeg:https://llangollen.events/wp-content/uploads/2025/10/petetong.jpg
END:VEVENT
BEGIN:VEVENT
DTSTART;TZID=Europe/London:20260626T180000
DTEND;TZID=Europe/London:20260626T220000
DTSTAMP:20260422T033124
CREATED:20251004T104258Z
LAST-MODIFIED:20251004T104459Z
UID:540-1782496800-1782511200@llangollen.events
SUMMARY:David Gray supported by The Divine Comedy
DESCRIPTION:David Gray will bring his Past & Present World Tour to Llangollen Pavilion on Friday 26th June 2026. David will be joined on the night by The Divine Comedy.  \nGet Tickets
URL:https://llangollen.events/event/david-gray-supported-by-the-divine-comedy/
LOCATION:Llangollen Pavilion\, Abbey Rd\,\, Llangollen\, LL20 8SW\, United Kingdom
CATEGORIES:Eisteddfod,Live Music
ATTACH;FMTTYPE=image/jpeg:https://llangollen.events/wp-content/uploads/2025/10/David-Gray-Llangollen.jpg
END:VEVENT
END:VCALENDAR