BEGIN:VCALENDAR
VERSION:2.0
PRODID:-// - ECPv6.15.20//NONSGML v1.0//EN
CALSCALE:GREGORIAN
METHOD:PUBLISH
X-ORIGINAL-URL:https://llangollen.events
X-WR-CALDESC:Events for 
REFRESH-INTERVAL;VALUE=DURATION:PT1H
X-Robots-Tag:noindex
X-PUBLISHED-TTL:PT1H
BEGIN:VTIMEZONE
TZID:Europe/London
BEGIN:DAYLIGHT
TZOFFSETFROM:+0000
TZOFFSETTO:+0100
TZNAME:BST
DTSTART:20250330T010000
END:DAYLIGHT
BEGIN:STANDARD
TZOFFSETFROM:+0100
TZOFFSETTO:+0000
TZNAME:GMT
DTSTART:20251026T010000
END:STANDARD
BEGIN:DAYLIGHT
TZOFFSETFROM:+0000
TZOFFSETTO:+0100
TZNAME:BST
DTSTART:20260329T010000
END:DAYLIGHT
BEGIN:STANDARD
TZOFFSETFROM:+0100
TZOFFSETTO:+0000
TZNAME:GMT
DTSTART:20261025T010000
END:STANDARD
BEGIN:DAYLIGHT
TZOFFSETFROM:+0000
TZOFFSETTO:+0100
TZNAME:BST
DTSTART:20270328T010000
END:DAYLIGHT
BEGIN:STANDARD
TZOFFSETFROM:+0100
TZOFFSETTO:+0000
TZNAME:GMT
DTSTART:20271031T010000
END:STANDARD
END:VTIMEZONE
BEGIN:VEVENT
DTSTART;VALUE=DATE:20260813
DTEND;VALUE=DATE:20260817
DTSTAMP:20260422T014556
CREATED:20260118T192054Z
LAST-MODIFIED:20260118T192054Z
UID:737-1786579200-1786924799@llangollen.events
SUMMARY:Peregrine Circus
DESCRIPTION:The Peregrine Circus brings its ‘Belly of the Whale’ performance to Llangollen. With live music from the Peregrine Circus Band and breathtaking performances that blend humour\, heart\, and awe it promises to wow audiences of all ages!
URL:https://llangollen.events/event/peregrine-circus/
LOCATION:Llangollen Pavilion\, Abbey Rd\,\, Llangollen\, LL20 8SW\, United Kingdom
CATEGORIES:Circus
ATTACH;FMTTYPE=image/jpeg:https://llangollen.events/wp-content/uploads/2026/01/peregine-circus.jpg
END:VEVENT
BEGIN:VEVENT
DTSTART;TZID=Europe/London:20261202T190000
DTEND;TZID=Europe/London:20261202T213000
DTSTAMP:20260422T014556
CREATED:20260118T103429Z
LAST-MODIFIED:20260118T105147Z
UID:702-1796238000-1796247000@llangollen.events
SUMMARY:Puccini's Madama Butterfly
DESCRIPTION:North Wales Opera is set to bring another great production to the Llangollen Stage. Madama Butterfly is a tragic opera by Giacomo Puccini\, telling the story of Cio-Cio-San\, a devoted Japanese woman betrayed by her American husband\, highlighting themes of love\, honor\, cultural clash\, and heartbreaking sacrifice. \nBuy Tickets
URL:https://llangollen.events/event/puccinis-madama-butterfly/
LOCATION:Town Hall\, Llangollen Town Hall\, Llangollen\, Denbighshire\, LL20 8NU\, United Kingdom
CATEGORIES:Opera
ATTACH;FMTTYPE=image/jpeg:https://llangollen.events/wp-content/uploads/2026/01/Madama-Butterfly-llangollen.jpg
END:VEVENT
END:VCALENDAR