BEGIN:VCALENDAR
VERSION:2.0
PRODID:-// - ECPv6.15.20//NONSGML v1.0//EN
CALSCALE:GREGORIAN
METHOD:PUBLISH
X-ORIGINAL-URL:https://llangollen.events
X-WR-CALDESC:Events for 
REFRESH-INTERVAL;VALUE=DURATION:PT1H
X-Robots-Tag:noindex
X-PUBLISHED-TTL:PT1H
BEGIN:VTIMEZONE
TZID:Europe/London
BEGIN:DAYLIGHT
TZOFFSETFROM:+0000
TZOFFSETTO:+0100
TZNAME:BST
DTSTART:20240331T010000
END:DAYLIGHT
BEGIN:STANDARD
TZOFFSETFROM:+0100
TZOFFSETTO:+0000
TZNAME:GMT
DTSTART:20241027T010000
END:STANDARD
BEGIN:DAYLIGHT
TZOFFSETFROM:+0000
TZOFFSETTO:+0100
TZNAME:BST
DTSTART:20250330T010000
END:DAYLIGHT
BEGIN:STANDARD
TZOFFSETFROM:+0100
TZOFFSETTO:+0000
TZNAME:GMT
DTSTART:20251026T010000
END:STANDARD
BEGIN:DAYLIGHT
TZOFFSETFROM:+0000
TZOFFSETTO:+0100
TZNAME:BST
DTSTART:20260329T010000
END:DAYLIGHT
BEGIN:STANDARD
TZOFFSETFROM:+0100
TZOFFSETTO:+0000
TZNAME:GMT
DTSTART:20261025T010000
END:STANDARD
END:VTIMEZONE
BEGIN:VEVENT
DTSTART;TZID=Europe/London:20251028T190000
DTEND;TZID=Europe/London:20251028T230000
DTSTAMP:20260421T225637
CREATED:20250930T095849Z
LAST-MODIFIED:20251027T200738Z
UID:430-1761678000-1761692400@llangollen.events
SUMMARY:Gales Open Mic Night
DESCRIPTION:Every other Tuesday is Open Mic at Gales. It’s always a fun night\, free to enter and open to people of all ages and all styles of music.\nThere’s a relaxed\, warm\, and welcoming welcoming atmosphere so head on down to perform or simply sit back and enjoy a great evening’s entertainment!
URL:https://llangollen.events/event/gales-open-mic-night/
LOCATION:Gales Wine Bar\, 18 Bridge St\,\, Llangollen\, Denbighshire\, LL20 8PF\, United Kingdom
CATEGORIES:Live Music,Open Mic
ATTACH;FMTTYPE=image/jpeg:https://llangollen.events/wp-content/uploads/2025/09/Gales-Open-Mic.jpg
END:VEVENT
BEGIN:VEVENT
DTSTART;TZID=Europe/London:20251026T150000
DTEND;TZID=Europe/London:20251026T200000
DTSTAMP:20260421T225637
CREATED:20251006T193358Z
LAST-MODIFIED:20251006T193358Z
UID:508-1761490800-1761508800@llangollen.events
SUMMARY:Open Mic at the Bridge End
DESCRIPTION:Enjoy an afternoon of open mic entertainment at the Bridge End Hotel!
URL:https://llangollen.events/event/open-mic-at-the-bridge-end/
LOCATION:Bridge End Hotel\, 1927 Mill St\,\, Llangollen\, Denbighshire\, LL20 8RY\, United Kingdom
CATEGORIES:Open Mic
ATTACH;FMTTYPE=image/jpeg:https://llangollen.events/wp-content/uploads/2025/10/Open-Mic-Bridge.jpg
END:VEVENT
BEGIN:VEVENT
DTSTART;TZID=Europe/London:20251025T200000
DTEND;TZID=Europe/London:20251025T230000
DTSTAMP:20260421T225637
CREATED:20251007T105656Z
LAST-MODIFIED:20251007T105656Z
UID:616-1761422400-1761433200@llangollen.events
SUMMARY:The Barstuds
DESCRIPTION:Covering classics from The Who\, Oasis\, Queen and more! Free entry
URL:https://llangollen.events/event/the-barstuds/
LOCATION:The Sun Inn\, 49 Regent Street\, Llangollen\, LL20 8HN\, United Kingdom
CATEGORIES:Live Music
ATTACH;FMTTYPE=image/jpeg:https://llangollen.events/wp-content/uploads/2025/10/barstuds.jpg
END:VEVENT
BEGIN:VEVENT
DTSTART;TZID=Europe/London:20251025T190000
DTEND;TZID=Europe/London:20251025T230000
DTSTAMP:20260421T225637
CREATED:20251003T175602Z
LAST-MODIFIED:20251003T175602Z
UID:499-1761418800-1761433200@llangollen.events
SUMMARY:The Retros - 60s Band
DESCRIPTION:Celebrate the RAFA Club’s 60th anniversary with a groovy festival featuring The Sixties Retro\, the ultimate 60’s band! Get ready to twist and shout to all your favorite hits from the swinging sixties.  \nGet Tickets
URL:https://llangollen.events/event/the-retros-60s-band/
LOCATION:RAFA Club\, Canalside Gardens\, Abbey Rd\,\, Llangollen\, Denbighshire\, LL20 8SW\, United Kingdom
CATEGORIES:Live Music
ATTACH;FMTTYPE=image/jpeg:https://llangollen.events/wp-content/uploads/2025/10/60s-retro.jpg
END:VEVENT
BEGIN:VEVENT
DTSTART;TZID=Europe/London:20251025T190000
DTEND;TZID=Europe/London:20251025T223000
DTSTAMP:20260421T225637
CREATED:20251003T182823Z
LAST-MODIFIED:20251005T135600Z
UID:513-1761418800-1761431400@llangollen.events
SUMMARY:David Burton
DESCRIPTION:Live music from Dave Burton at the Bridge End Hotel
URL:https://llangollen.events/event/david-burton/
LOCATION:Bridge End Hotel\, 1927 Mill St\,\, Llangollen\, Denbighshire\, LL20 8RY\, United Kingdom
CATEGORIES:Live Music
ATTACH;FMTTYPE=image/jpeg:https://llangollen.events/wp-content/uploads/2025/10/D-Burton-Bridge.jpg
END:VEVENT
BEGIN:VEVENT
DTSTART;TZID=Europe/London:20251025T190000
DTEND;TZID=Europe/London:20251025T190000
DTSTAMP:20260421T225637
CREATED:20250924T104341Z
LAST-MODIFIED:20250925T193746Z
UID:313-1761418800-1761418800@llangollen.events
SUMMARY:Something for Sarah - Fundraising Event
DESCRIPTION:An evening of Song and Dance in memory of Sarah Marshall\, who was a key member of the Llangollen Operatic and Llangollen Pantomime groups\, to raise money for Nightingale House Hospice and Friends of the Earth. Enjoy fun performances by Llangollen Operatic Society\, Young Uns and Llangollen Pantomime Group as well as singalongs and dancing. And of course there will be a bar and raffle o the night too! \nGet Tickets
URL:https://llangollen.events/event/something-for-sarah-fundraising-event/
LOCATION:Town Hall\, Llangollen Town Hall\, Llangollen\, Denbighshire\, LL20 8NU\, United Kingdom
CATEGORIES:Musical Theatre,Pantomime
ATTACH;FMTTYPE=image/jpeg:https://llangollen.events/wp-content/uploads/2025/09/Sarah.jpg
END:VEVENT
BEGIN:VEVENT
DTSTART;TZID=Europe/London:20251024T193000
DTEND;TZID=Europe/London:20251024T233000
DTSTAMP:20260421T225637
CREATED:20251006T190308Z
LAST-MODIFIED:20251006T190308Z
UID:605-1761334200-1761348600@llangollen.events
SUMMARY:Live Music Friday: Ewan Smith
DESCRIPTION:Live music in Gales. Free entry\, music starts at 7:30 pm
URL:https://llangollen.events/event/live-music-friday-ewan-smith/
LOCATION:Gales Wine Bar\, 18 Bridge St\,\, Llangollen\, Denbighshire\, LL20 8PF\, United Kingdom
CATEGORIES:Live Music
ATTACH;FMTTYPE=image/jpeg:https://llangollen.events/wp-content/uploads/2025/10/Ewan.jpg
END:VEVENT
BEGIN:VEVENT
DTSTART;TZID=Europe/London:20251024T190000
DTEND;TZID=Europe/London:20251024T230000
DTSTAMP:20260421T225637
CREATED:20250924T140900Z
LAST-MODIFIED:20250925T103812Z
UID:345-1761332400-1761346800@llangollen.events
SUMMARY:Driving Aid To Ukraine - SOLD OUT!
DESCRIPTION:Enjoy an evening of fantastic local musical talent (Rock\, Folk\, Blues\, Opera and more) and raise money for driving aid to people in need in Ukraine.\nBuffet supper included in the ticket price!
URL:https://llangollen.events/event/driving-aid-to-ukraine/
LOCATION:RAFA Club\, Canalside Gardens\, Abbey Rd\,\, Llangollen\, Denbighshire\, LL20 8SW\, United Kingdom
CATEGORIES:Live Music
ATTACH;FMTTYPE=image/jpeg:https://llangollen.events/wp-content/uploads/2025/09/Ukraine.jpg
END:VEVENT
BEGIN:VEVENT
DTSTART;TZID=Europe/London:20251021T193000
DTEND;TZID=Europe/London:20251021T230000
DTSTAMP:20260421T225637
CREATED:20251003T174245Z
LAST-MODIFIED:20251018T151735Z
UID:492-1761075000-1761087600@llangollen.events
SUMMARY:Original Artists Night
DESCRIPTION:Come to the first of Gales Wine Bar’s Original Artists events. \nOriginal Artist Night at Gales is once a month on Tuesdays. \nEnjoy singer/musician\, songwriters performing their original material. \nThis evening’s event features Miss Moon\, Chris Greve\, Megan and Tom and Luned Elwyn. \nFree entry
URL:https://llangollen.events/event/original-artists-night-2/
LOCATION:Gales Wine Bar\, 18 Bridge St\,\, Llangollen\, Denbighshire\, LL20 8PF\, United Kingdom
CATEGORIES:Live Music
ATTACH;FMTTYPE=image/jpeg:https://llangollen.events/wp-content/uploads/2025/10/original-artists.jpg
END:VEVENT
BEGIN:VEVENT
DTSTART;TZID=Europe/London:20251019T150000
DTEND;TZID=Europe/London:20251019T180000
DTSTAMP:20260421T225637
CREATED:20251015T112914Z
LAST-MODIFIED:20251015T113552Z
UID:643-1760886000-1760896800@llangollen.events
SUMMARY:Rockwood Road Acoustic Duo
DESCRIPTION:Head to the RAFA Club for an afternoon of acoustic classics from Rockwood Road! \nRockwood Road are a Wrexham based duo performing classic rock tunes with an acoustic twist. \nThis is a free event with bar available at Llangollen’s RAFA Club
URL:https://llangollen.events/event/rockwood-road-acoustic-duo/
LOCATION:RAFA Club\, Canalside Gardens\, Abbey Rd\,\, Llangollen\, Denbighshire\, LL20 8SW\, United Kingdom
CATEGORIES:Live Music
ATTACH;FMTTYPE=image/jpeg:https://llangollen.events/wp-content/uploads/2025/10/rockwoodroad.jpg
END:VEVENT
BEGIN:VEVENT
DTSTART;TZID=Europe/London:20251018T200000
DTEND;TZID=Europe/London:20251018T230000
DTSTAMP:20260421T225637
CREATED:20250930T112106Z
LAST-MODIFIED:20250930T112106Z
UID:451-1760817600-1760828400@llangollen.events
SUMMARY:Live Music: Too Loud For Brian
DESCRIPTION:Free live music at the Sun Inn from the band ‘Too Loud For Brian’ at the Sun Inn
URL:https://llangollen.events/event/live-music-too-loud-for-brian/
LOCATION:The Sun Inn\, 49 Regent Street\, Llangollen\, LL20 8HN\, United Kingdom
CATEGORIES:Live Music
ATTACH;FMTTYPE=image/jpeg:https://llangollen.events/wp-content/uploads/2025/09/tooloudfor-brian.jpg
END:VEVENT
BEGIN:VEVENT
DTSTART;TZID=Europe/London:20251018T080000
DTEND;TZID=Europe/London:20251018T170000
DTSTAMP:20260421T225637
CREATED:20251016T114651Z
LAST-MODIFIED:20251016T114651Z
UID:647-1760774400-1760806800@llangollen.events
SUMMARY:2025 White Water Film Night: Godspeed Los Polacos
DESCRIPTION:‘The White Water Film Festival’ is hosting a film night and auction to raise funds for ‘Save our Rivers’. \n‘Godspeed\, Los Polacos!’ is a thrilling documentary telling the true story of five Polish university students who\, in the 1980s\, escaped the confines of Soviet-era Poland by embarking on a daring kayaking expedition. Their goal was to paddle the world’s deepest canyon—the Colca Canyon in Peru—becoming the first to do so. Blending adventure\, rebellion\, and political resistance\, the film captures their extraordinary journey of courage and freedom against the backdrop of Cold War oppression.\nThe night will also feature an auction of kayaks\, vouchers and more! \nGet Tickets
URL:https://llangollen.events/event/2025-white-water-film-night-godspeed-los-polacos/
LOCATION:Town Hall\, Llangollen Town Hall\, Llangollen\, Denbighshire\, LL20 8NU\, United Kingdom
CATEGORIES:Cinema
ATTACH;FMTTYPE=image/jpeg:https://llangollen.events/wp-content/uploads/2025/10/peru-canoe-scaled.jpg
END:VEVENT
BEGIN:VEVENT
DTSTART;TZID=Europe/London:20251017T193000
DTEND;TZID=Europe/London:20251017T230000
DTSTAMP:20260421T225637
CREATED:20251003T173744Z
LAST-MODIFIED:20251003T173744Z
UID:486-1760729400-1760742000@llangollen.events
SUMMARY:Live Music Friday: David Burton
DESCRIPTION:Live music event in Gales. Free entry\, music starts at 7:30 pm
URL:https://llangollen.events/event/live-music-friday-david-burton/
LOCATION:Gales Wine Bar\, 18 Bridge St\,\, Llangollen\, Denbighshire\, LL20 8PF\, United Kingdom
CATEGORIES:Live Music
ATTACH;FMTTYPE=image/jpeg:https://llangollen.events/wp-content/uploads/2025/10/DaveBurton.jpg
END:VEVENT
BEGIN:VEVENT
DTSTART;TZID=Europe/London:20251017T190000
DTEND;TZID=Europe/London:20251017T213000
DTSTAMP:20260421T225637
CREATED:20250922T171423Z
LAST-MODIFIED:20251016T125443Z
UID:284-1760727600-1760736600@llangollen.events
SUMMARY:Movie: Psycho
DESCRIPTION:The New Dot Cinema is gearing up for Halloween with this classic Hitchcock horror!\nHosted at Llangollen Town Hall\, the doors will open at 6:45pm with the movie starting at 7:30pm\nDrinks and snacks will be available from the bar you can choose to sit in regular seats\, on the balcony or reserve a small table for you and your friends! \nGet Tickets
URL:https://llangollen.events/event/movie-psycho/
LOCATION:Town Hall\, Llangollen Town Hall\, Llangollen\, Denbighshire\, LL20 8NU\, United Kingdom
CATEGORIES:Cinema
ATTACH;FMTTYPE=image/jpeg:https://llangollen.events/wp-content/uploads/2025/09/psycho.jpg
END:VEVENT
BEGIN:VEVENT
DTSTART;TZID=Europe/London:20251011T200000
DTEND;TZID=Europe/London:20251011T230000
DTSTAMP:20260421T225637
CREATED:20251003T205701Z
LAST-MODIFIED:20251003T210045Z
UID:526-1760212800-1760223600@llangollen.events
SUMMARY:Groom the Giant
DESCRIPTION:Groom The Giant’s live performances are a visceral experience – heavy\, high-energy\, and hypnotic. Their shows combine thunderous riffs\, soaring melodies\, and a magnetic stage presence that leaves audiences shaken and spellbound. Dressed in eye-catching costumes that capture the wild\, mystical spirit of the band\, they transform every set into something theatrical and otherworldly
URL:https://llangollen.events/event/groom-the-giant/
LOCATION:The Sun Inn\, 49 Regent Street\, Llangollen\, LL20 8HN\, United Kingdom
CATEGORIES:Live Music
ATTACH;FMTTYPE=image/jpeg:https://llangollen.events/wp-content/uploads/2025/10/groom-the-giant.jpg
END:VEVENT
BEGIN:VEVENT
DTSTART;TZID=Europe/London:20251011T120000
DTEND;TZID=Europe/London:20251011T163000
DTSTAMP:20260421T225637
CREATED:20250930T102236Z
LAST-MODIFIED:20251006T211256Z
UID:432-1760184000-1760200200@llangollen.events
SUMMARY:Charity Afternoon Tea
DESCRIPTION:Enjoy cake and support North West Cancer Research and North East Wales Search and Rescue! \nDonation of £4 via PayPal or on the door \nPay via PayPal
URL:https://llangollen.events/event/charity-afternoon-tea-raffle/
LOCATION:St Collens\, LL20 8PL\, Llangollen\, Denbighshire\, LL20 8PL\, United Kingdom
CATEGORIES:Food
ATTACH;FMTTYPE=image/jpeg:https://llangollen.events/wp-content/uploads/2025/09/Cakes.jpg
END:VEVENT
BEGIN:VEVENT
DTSTART;VALUE=DATE:20251011
DTEND;VALUE=DATE:20251013
DTSTAMP:20260421T225637
CREATED:20251004T194909Z
LAST-MODIFIED:20251004T194909Z
UID:570-1760140800-1760313599@llangollen.events
SUMMARY:Live Music @ Llangollen Food Festival
DESCRIPTION:Catch live music across town in Centenary Square\, The Bandstand at Riverside Park and at the Llangollen Heritage Railway Station during Llangollen’s annual Food Festival.
URL:https://llangollen.events/event/live-music-llangollen-food-festival/
LOCATION:Various Venues\, Llangollen\, LL20\, United Kingdom
CATEGORIES:Live Music
ATTACH;FMTTYPE=image/jpeg:https://llangollen.events/wp-content/uploads/2025/10/food-festival.jpg
END:VEVENT
BEGIN:VEVENT
DTSTART;TZID=Europe/London:20251010T200000
DTEND;TZID=Europe/London:20251010T230000
DTSTAMP:20260421T225637
CREATED:20251003T174823Z
LAST-MODIFIED:20251003T175254Z
UID:495-1760126400-1760137200@llangollen.events
SUMMARY:Live 90s Band
DESCRIPTION:Get ready to groove to the beats of your favourite 90’s hits as we bring you an epic live performance by an incredible band at Lets Dance \nGet Tickets
URL:https://llangollen.events/event/live-90s-band/
LOCATION:RAFA Club\, Canalside Gardens\, Abbey Rd\,\, Llangollen\, Denbighshire\, LL20 8SW\, United Kingdom
CATEGORIES:Live Music
ATTACH;FMTTYPE=image/jpeg:https://llangollen.events/wp-content/uploads/2025/10/Live-90s-bandl.jpg
END:VEVENT
BEGIN:VEVENT
DTSTART;TZID=Europe/London:20251010T193000
DTEND;TZID=Europe/London:20251010T230000
DTSTAMP:20260421T225637
CREATED:20251003T173347Z
LAST-MODIFIED:20251008T185130Z
UID:483-1760124600-1760137200@llangollen.events
SUMMARY:Live Music Friday: Hwyl
DESCRIPTION:Get ready for a night of Welsh grooves and good times from 7:30pm
URL:https://llangollen.events/event/live-music-friday-rhys-yaxley/
LOCATION:Gales Wine Bar\, 18 Bridge St\,\, Llangollen\, Denbighshire\, LL20 8PF\, United Kingdom
CATEGORIES:Live Music
ATTACH;FMTTYPE=image/jpeg:https://llangollen.events/wp-content/uploads/2025/10/hwyl.jpg
END:VEVENT
BEGIN:VEVENT
DTSTART;TZID=Europe/London:20251009T193000
DTEND;TZID=Europe/London:20251009T223000
DTSTAMP:20260421T225637
CREATED:20251003T173018Z
LAST-MODIFIED:20251003T173018Z
UID:480-1760038200-1760049000@llangollen.events
SUMMARY:Original Artists Night
DESCRIPTION:Original artists playing original music!
URL:https://llangollen.events/event/original-artists-night/
LOCATION:Gales Wine Bar\, 18 Bridge St\,\, Llangollen\, Denbighshire\, LL20 8PF\, United Kingdom
CATEGORIES:Live Music
ATTACH;FMTTYPE=image/jpeg:https://llangollen.events/wp-content/uploads/2025/10/original-artists-9-oct.jpg
END:VEVENT
BEGIN:VEVENT
DTSTART;TZID=Europe/London:20251007T193000
DTEND;TZID=Europe/London:20251007T223000
DTSTAMP:20260421T225637
CREATED:20251003T172711Z
LAST-MODIFIED:20251003T172711Z
UID:477-1759865400-1759876200@llangollen.events
SUMMARY:Can Can Live at Gales Wine Bar
DESCRIPTION:Chic\, continental cafe music. A sophisticated blend of French\, Latin\, blues and jazz
URL:https://llangollen.events/event/can-can-live-at-gales-wine-bar/
LOCATION:Gales Wine Bar\, 18 Bridge St\,\, Llangollen\, Denbighshire\, LL20 8PF\, United Kingdom
CATEGORIES:Live Music
ATTACH;FMTTYPE=image/jpeg:https://llangollen.events/wp-content/uploads/2025/10/cancan.jpg
END:VEVENT
BEGIN:VEVENT
DTSTART;TZID=Europe/London:20251004T210000
DTEND;TZID=Europe/London:20251004T230000
DTSTAMP:20260421T225637
CREATED:20250930T111132Z
LAST-MODIFIED:20250930T111227Z
UID:446-1759611600-1759618800@llangollen.events
SUMMARY:The Endings
DESCRIPTION:Free live music at the Sun Inn Llangollen from 9pm
URL:https://llangollen.events/event/the-endings/
LOCATION:The Sun Inn\, 49 Regent Street\, Llangollen\, LL20 8HN\, United Kingdom
CATEGORIES:Live Music
ATTACH;FMTTYPE=image/jpeg:https://llangollen.events/wp-content/uploads/2025/09/Endings.jpg
END:VEVENT
BEGIN:VEVENT
DTSTART;TZID=Europe/London:20251003T193000
DTEND;TZID=Europe/London:20251003T230000
DTSTAMP:20260421T225637
CREATED:20251003T172358Z
LAST-MODIFIED:20251003T172358Z
UID:474-1759519800-1759532400@llangollen.events
SUMMARY:Live Music Friday: Andie Hickey
DESCRIPTION:Free live music event in Gales. Free entry\, music starts at 7:30 pm
URL:https://llangollen.events/event/live-music-friday-andie-hickey/
LOCATION:Gales Wine Bar\, 18 Bridge St\,\, Llangollen\, Denbighshire\, LL20 8PF\, United Kingdom
CATEGORIES:Live Music
ATTACH;FMTTYPE=image/jpeg:https://llangollen.events/wp-content/uploads/2025/10/Andy-Hickie.jpg
END:VEVENT
BEGIN:VEVENT
DTSTART;TZID=Europe/London:20251003T190000
DTEND;TZID=Europe/London:20251003T230000
DTSTAMP:20260421T225637
CREATED:20250930T102948Z
LAST-MODIFIED:20250930T104359Z
UID:437-1759518000-1759532400@llangollen.events
SUMMARY:October Comedy Club
DESCRIPTION:Expect a hand-picked line-up of brilliant comedians ready to light up the stage and get your weekend started the right way. Whether you’re a long-time fan or brand new to Comedy Club\, this is a night you won’t want to miss. Catch the brand-new season of side-splitting laughs and unforgettable performances!  \nGet Tickets
URL:https://llangollen.events/event/comedy-club/
LOCATION:Town Hall\, Llangollen Town Hall\, Llangollen\, Denbighshire\, LL20 8NU\, United Kingdom
CATEGORIES:Comedy
ATTACH;FMTTYPE=image/png:https://llangollen.events/wp-content/uploads/2025/09/Comedy_Club.png
END:VEVENT
BEGIN:VEVENT
DTSTART;TZID=Europe/London:20250930T190000
DTEND;TZID=Europe/London:20250930T230000
DTSTAMP:20260421T225637
CREATED:20250925T192446Z
LAST-MODIFIED:20250930T095612Z
UID:416-1759258800-1759273200@llangollen.events
SUMMARY:Gales Open Mic
DESCRIPTION:Every other Tuesday is Open Mic at Gales. It’s always a fun night\, free to enter and open to people of all ages and all styles of music.\nThere’s a relaxed\, warm\, and welcoming welcoming atmosphere so head on down to perform or simply sit back and enjoy a great evening’s entertainment!
URL:https://llangollen.events/event/gales-open-mic/
LOCATION:Gales Wine Bar\, 18 Bridge St\,\, Llangollen\, Denbighshire\, LL20 8PF\, United Kingdom
CATEGORIES:Live Music,Open Mic
ATTACH;FMTTYPE=image/jpeg:https://llangollen.events/wp-content/uploads/2025/09/Gales-Open-Mic.jpg
END:VEVENT
END:VCALENDAR